{"text_format":"1","workbook":"xlsx","n_sheets":2,"sheets":["Main Menu","Calculations"],"not_rendered":{"charts":0,"images":0,"macros":1,"external_links":0,"defined_names":2,"comments":1,"pivot_tables":0},"unopened":[],"bounds":{"document_bytes":16777216,"sheet_cells":100000,"rows_first":2000,"rows_last":500,"rows_between":2000,"halvings":0,"cell_chars":16384,"cell_head_chars":4096},"cells_cut":0,"cells_raw":0,"read":"whole","date_system":"1900"}

{"sheet":"Main Menu","index":0,"n_rows":42,"n_cols":16,"rows_kept":42,"cut":false,"hidden":false,"merged":[]}
[null,"               State Benefit Estimator - 2021","Unemployment Insurance Benefit Calculator for 2021"]
[null,null,"This Benefit Calculator will estimate the state weekly benefit amount for any assumed eligible "]
[null,null,"Unemployment Insurance claimant. It is assumed the claimant has met both the monetary and "]
[null,null,"non-monetary state eligibility requirements. The user needs to input only the specific state,  "]
[null,null,"wages received in the Base period, wages earned in the highest quarter, and the number of dependents."]
[]
[null,"Inputs:"]
[null,null,"1) State:",null,null,null,null,null,null,null,null,null,null,null,null," "]
[]
[null,null,"2) Amount of Wages earned in Base Period1:",null,null,null,null,null,null,null,null,null,60000]
[]
[null,null,"3) Amount of Wages Earned in Highest Quarter of Base Period:",null,null,null,null,null,null,null,null,null,20000]
[null,null,null,null,null,null,null,null,null,null,null,null," "]
[null,null,"5) Number of Dependents2:",null,null,null,null,null,null,null,null,null,1,null," "," "]
[null,null,null,null," ",null," ",null,null,null,null," "]
[]
[null,"Output:"]
[]
[null,null,"1) Estimated Weekly Benefit Amount: ",null,null,null,null,null,null,null,null,null,{"$f":"+Calculations!AN10","v":484}]
[]
[null,null,"2) Estimated Weekly Benefit Amount With Dependents3:",null,null,null,null,null,null,null,null,null,{"$f":"+Calculations!AN11","v":510}]
[]
[null,null,"3) Weekly Benefit Amount w/ Federal Additional Amount (FPUC)4: ",null,null,null,null,null,null,null,null," ",{"$f":"+Calculations!AN12","v":810}]
[]
[null,null,"   3b) Ending Date of Federal Add-On amount (FPUC):",null,null,null,null,null,null,null,null,null,{"$f":"+Calculations!AN16","v":"2021-09-06"}]
[null,null," "]
[null,null,"4) Maximum Potential Duration,without State or Federal Extensions, (weeks):",null,null,null,null,null,null,null,null,null,{"$f":"+Calculations!AN13","v":26}]
[]
[null,"Notes:"]
[null,"1. The base-period is the look-back period during which wages earned are examined to determine an individual’s monetary "]
[null," entitlement to benefits. Almost all states use the first four of the last five completed calendar quarters preceding the filing"]
[null," of the claim as their base-period, (https://oui.doleta.gov/unemploy/pdf/uilawcompar/2020/monetary.pdf)."]
[null," "]
[null,"2. The definition of dependent, for UI purposes, varies from state to state,"]
[null," (https://oui.doleta.gov/unemploy/pdf/uilawcompar/2020/monetary.pdf).  "]
[]
[null," 3. If the Weekly Benefit Amount is the same as without dependents then the state does not pay dependent benefits."]
[null," "]
[null,"4. Federal Pandemic Unemployment Compensation (FPUC) added $300 to each claimant's Weekly Benefit Amount."]
[null," "]
[]
[null," "]

{"sheet":"Calculations","index":1,"n_rows":433,"n_cols":86,"rows_kept":433,"cut":false,"hidden":false,"merged":[]}
[null,null,null,null,null,null,null,null,null,null,null,null,null,null,null,null,null,null,null,null,null,null,null,null,null,null,null,null,null,null,null,null,null,null,null,null,null,null,null,null,null,null,null,null,null,null,null,"States with WBA Tables"]
[null,"Weekly Benefit Amount Calculator",null,null,null," ",null,null,null,null,null,null,null,null,null,null,null,null,null,null,null,null,null,null,null,null,null,null,null,null,null,null,null,null,null,null,null,null,null,null,null,null,null,null,null,null,null,null,"Alaska WBA Table",null,null,null,null,null,null,null,null,null,null,null,null,null,null,"New Hampshire Benefit Table",null,null,null,null,null,null,null,null,"Pennsylvania Benefit Table"]
[null,null,null,null,null,null,null,null," ",null,null,null,null,null,null,null,null,null,null,null,null,null,null,null,null,null,null,null,null,null,null,null,null,null,null,null,null,null,null,null,null,null,null,null,null,null,null,null,null,null,null,null,null,null,null,null,null,null,null,null,null,null,null,null,null,null,null,null,null,null,null,null,"Salary",null,"WBA","%",null,"Salary",null,"WBA","%",null,"Salary",null,"WBA","%"]
[null,null,null,"Input Data",null,null,null,null,null,null,null,null,null,null,null,null,null,null,null,"User Inputs",null,null,null,null,"OUTPUTS",null,null,null,null,null,null,null,null,"Calculations For Output of Benefit Estimator Screen",null,null,null,null,null,null,null,null,null,null,null,null,null,{"$f":"+AW4/52","v":48.07692307692308},2500,2750,56,{"$f":"+AY4/AW4","v":2.24E-2},{"$f":"+AY4/AV4","v":1.1647999999999998},{"$f":"IF(AV4<63,100%,IF(AV4<91,85%,IF(AV4<149,70%,IF(AV4<231,57%,IF(AV4<318,54%,IF(AV4<346,53%,IF(AV4<380,52%,IF(AV4<486,50%,IF(AV4<591,48%,47.5%)))))))))","v":1},null,{"$f":"+BE4/52","v":322.11538461538464},16750,17000,170,{"$f":"+BG4/BE4","v":1.0149253731343283E-2},{"$f":"+BG4/BD4","v":0.52776119402985067},{"$f":"IF(BD4<63,100%,IF(BD4<91,85%,IF(BD4<149,70%,IF(BD4<231,57%,IF(BD4<318,54%,IF(BD4<346,53%,IF(BD4<380,52%,IF(BD4<486,50%,IF(BD4<591,48%,47.5%)))))))))","v":0.53},null,2800,32,42,38,832,{"$f":"+BM4/(BL4/52)","v":0.59428571428571431},{"$f":"IF(BL4<9000,59%,IF(BL4<18500,57%,IF(BL4<27500,54%,IF(BL4<39500,53%,52%))))","v":0.59},null,null,1688,1712,68,{"$f":"+BW4/(BU4/13)","v":0.523696682464455},null,6263,6287,247,{"$f":"+CB4/(BZ4/13)","v":0.51269359731757946},null,13738,13762,540,{"$f":"+CG4/(CE4/13)","v":0.51099141068568932}]
[null,null,null," ",null,null,null,null,null,null,null,null,null,null,null,null,null,null,null,null,null,null,null,null,null,null," ",null," ",null,null,null,null,null,"ABB","State","State Num.","Year",null,null,"Year",null,null,null,null,null,null,{"$f":"+AW5/52","v":52.884615384615387},2750,3000,58,{"$f":"+AY5/AW5","v":2.1090909090909091E-2},{"$f":"+AY5/AV5","v":1.0967272727272728},{"$f":"IF(AV5<63,100%,IF(AV5<91,85%,IF(AV5<149,70%,IF(AV5<231,57%,IF(AV5<318,54%,IF(AV5<346,53%,IF(AV5<380,52%,IF(AV5<486,50%,IF(AV5<591,48%,47.5%)))))))))","v":1},null,{"$f":"+BE5/52","v":326.92307692307691},17000,17250,172,{"$f":"+BG5/BE5","v":1.011764705882353E-2},{"$f":"+BG5/BD5","v":0.52611764705882358},0.53,null,3100,35,45,42,910,{"$f":"+BM5/(BL5/52)","v":0.58709677419354844},{"$f":"IF(BL5<9000,59%,IF(BL5<18500,57%,IF(BL5<27500,54%,IF(BL5<39500,53%,52%))))","v":0.59},null,null,1713,1737,69,{"$f":"+BW5/(BU5/13)","v":0.52364273204903677},null,6288,6312,248,0.51272264631043263,null,13763,13787,541,0.5110077744677759]
[null,null,null,null," ","Converted","Pot. Max Dur.","Factor used",2021,null,null,null," ",null,null,null,null,null,null,"Estimated",null,null,null,null,null,null," ",null," ",null,null,null,null,1,"AK","Alaska",1,2010," "," ",12,null,null,null,null,null,null,57.692307692307693,3000,3250,60,0.02,1.04,1,null,331.73076923076923,17250,17500,174,1.008695652173913E-2,0.52452173913043476,0.53,null,3400,39,51,47,1014,0.59647058823529409,0.59,null,null,1738,1762,70,0.5235903337169161,null,6313,6337,249,0.51275146523047677,null,13788,13812,542,0.51102407890919643]
[null,null,"Benefit Formula","Ben Calc.",null,"WBA as% of AWW","used in Formula","Mult. of Wages",null,"Dependents","Allowance","Max number","Max WBA"," ",null," ","Calc Max Ben",2021,null,"Base Period",null,null," ",null,"Estimated","Estimated","Calculated ","Calculated ","Max Potential","WBA w/Depends","WBA w/FPUC","End Date of",null,2,"AL","ALABAMA",2,2011,"STATE:",15," ",null,null,null,null,null,null,62.5,3250,3500,62,1.9076923076923078E-2,0.99199999999999999,1,null,336.53846153846155,17500,17750,176,1.0057142857142857E-2,0.52297142857142853,0.53,null,3900,45,58,54,1170,0.6,0.59,null,null,1763,1787,71,0.52353942144072607,null,6338,6362,250,0.5127800568002524,null,13813,13837,543,0.51104032433215096]
["ABBREV","STATE",null,"Method","WBA Formula ","WBA/AWW","WBA FACTOR","Factor of Wages","Min wo/Dep","Min. WBA  w/Dep","Per Dep.","of Deps.","Max wo/Dep","Max Ben w/Dep","Min Duration","Max Duration","Max Tot Ben","Fed Add Amt (FPUC)",null,"Wages","Qtrly Wage","Qtrly Wage -2","Dependents",null,"AWW","% Replac.Rate","WBA","Max Entitlement","Duration",null,null,"FPUC",null,3,"AR","ARKANSAS",3,2012,"YR:",{"$f":"INDEX($AL$6:$AL$21,MATCH($AO$6,$AK$6:$AK$21,0))","v":2021}," ",null,null,null,null,null,null,67.307692307692307,3500,3750,64,1.8285714285714287E-2,0.95085714285714285,0.85,null,341.34615384615387,17750,18000,178,1.0028169014084508E-2,0.52146478873239432,0.53,null,4200,48,62,58,1248,0.59428571428571431,0.59,null,null,1788,1812,72,0.52348993288590606,null,6363,6387,251,0.51280842369951285,null,13838,13862,544,0.51105651105651095]
["AK","Alaska","Table","AW",8.9999999999999993E-3,0.47,null,26,56,128,24,3,370,442,16,26,{"$f":"+M9*P9","v":9620},300,null,{"$f":"+'Main Menu'!M$10","v":60000},{"$f":"+'Main Menu'!M$12","v":20000},null,{"$f":"IF('Main Menu'!$M$14<L9,'Main Menu'!$M$14,L9)","v":1},null,{"$f":"+((U9+(T9*0.25))/26)","v":1346.1538461538462},{"$f":"IF(Y9<63,100%,IF(Y9<91,85%,IF(Y9<149,70%,IF(Y9<231,57%,IF(Y9<318,54%,IF(Y9<346,53%,IF(Y9<380,52%,IF(Y9<486,50%,IF(Y9<591,48%,47.5%)))))))))","v":0.47499999999999998},{"$f":"IF((Y9*Z9)>$M9,$M9,IF((Y9*Z9)<$I9,$I9,$Y9*$Z9))","v":370},{"$f":"IF((AA9*P9)>Q9,Q9,(AA9*P9))","v":9620},{"$f":"IF((AB9/AA9)>P9,P9,IF((AB9/AA9)<O9,O9,(AB9/AA9)))","v":26},{"$f":"IF(W9>0,AA9+(W9*K9),AA9)","v":394},{"$f":"+AD9+R9","v":694},"2021-06-12",null,4,"AZ","ARIZONA",4,2013,"CALCULATION",null,null,null,null,null,null,null,null,72.115384615384613,3750,4000,66,1.7600000000000001E-2,0.91520000000000001,0.85,null,346.15384615384613,18000,18250,180,0.01,0.52,0.52,null,4500,52,68,62,1352,0.60088888888888892,0.59,null,null,1813,1837,73,0.52344180915609495,null,6388,6412,252,0.51283656856606141,null,13863,13887,545,0.51107263939984127]
["AL","Alabama","1/26 avg 2HQ","MQ","  1/26",0.5,14,0.25,45,null,null,0,275,null,15,14,3850,300,null,{"$f":"+'Main Menu'!M$10","v":60000},{"$f":"+'Main Menu'!M$12","v":20000},null,{"$f":"IF('Main Menu'!$M$14<L10,'Main Menu'!$M$14,L10)","v":0}," ",{"$f":"+((U10+(T10*0.25))/26)","v":1346.1538461538462},{"$f":"IF(C10=\"Table\",F10,F10)","v":0.5},275,3850,15,275,575,"2021-06-19",null,5,"CA","CALIFORNIA",5,2014,"Est. WBA",{"$f":"SUMIFS($AA$9:$AA$61,$AH$6:$AH$58,\"=\"&$AN$7)","v":484},null,null,null,null,null,null,null,76.92307692307692,4000,4250,68,1.7000000000000001E-2,0.88400000000000001,0.85,null,350.96153846153845,18250,18500,182,9.9726027397260275E-3,0.51857534246575343,0.52,null,4800,55,71,66,1430,0.59583333333333333,0.59,null,null,1838,1862,74,0.52339499455930361,null,6413,6437,253,0.51286449399656941,null,13888,13912,546,0.51108870967741937]
["AR","Arkansas","1/26 avg 2HQ","MQ","  1/26",0.5,16,0.33300000000000002,81,null,null,0,451,null,9,20,9020,300,null,{"$f":"+'Main Menu'!M$10","v":60000},{"$f":"+'Main Menu'!M$12","v":20000},null,{"$f":"IF('Main Menu'!$M$14<L11,'Main Menu'!$M$14,L11)","v":0},null,{"$f":"+((U11+(T11*0.25))/26)","v":1346.1538461538462},0.5,451,9020,20,451,751,"2021-06-26",null,6,"CO","COLORADO",6,2015,"Est. WBA W/Dep",{"$f":"SUMIFS($AD$9:$AD$61,$AH$6:$AH$58,\"=\"&$AN$7)","v":510},null,null,null,null,null,null,null,81.730769230769226,4250,4500,70,1.6470588235294119E-2,0.85647058823529421,0.85,null,355.76923076923077,18500,18750,184,9.945945945945946E-3,0.51718918918918921,0.52,null,5100,59,77,71,1534,0.60156862745098039,0.59,null,null,1863,1887,75,0.52334943639291465,null,6438,6462,254,0.512892202547375,null,13913,13937,547,0.51110472220225689]
["AZ","Arizona","1/25 HQ","HQ","  1/25",0.52,26,0.33300000000000002,187,null,null,0,240,null,8,26,6240,300,null,{"$f":"+'Main Menu'!M$10","v":60000},{"$f":"+'Main Menu'!M$12","v":20000},null,{"$f":"IF('Main Menu'!$M$14<L12,'Main Menu'!$M$14,L12)","v":0},null,{"$f":"+U12/13","v":1538.4615384615386},0.52,240,6240,26,240,540,"2021-07-10",null,7,"CT","CONNECTICUT",7,2016,"WBA W/DEP W/FPUC",{"$f":"SUMIFS($AE$9:$AE$61,$AH$6:$AH$58,\"=\"&$AN$7)","v":810},null,null,null,null,null,null,null,86.538461538461533,4500,4750,72,1.6E-2,0.83200000000000007,0.85,null,360.57692307692309,18750,19000,186,9.92E-3,0.51583999999999997,0.52,null,5600,64,83,77,1664,0.59428571428571431,0.59,null,null,1888,1912,76,0.52330508474576276,null,6463,6487,255,0.51291969673526228,null,13938,13962,548,0.51112067728511978]
["CA","California","1/26 HQ","HQ","  1/26",0.5,26,0.5,40,null,null,0,450,null,14,26,11700,300,null,{"$f":"+'Main Menu'!M$10","v":60000},{"$f":"+'Main Menu'!M$12","v":20000},null,{"$f":"IF('Main Menu'!$M$14<L13,'Main Menu'!$M$14,L13)","v":0},null,1538.4615384615386,0.5,450,11700,26,450,750,"2021-09-06",null,8,"DC","DISTRICT OF COLUMBIA",8,2017,"Maximum Potential Duration",{"$f":"SUMIFS($AC$9:$AC$61,$AH$6:$AH$58,\"=\"&$AN$7)","v":26},null,null,null,null,null,null,null,91.34615384615384,4750,5000,74,1.5578947368421053E-2,0.81010526315789477,0.7,null,365.38461538461536,19000,19250,188,9.8947368421052635E-3,0.51452631578947372,0.52,null,6100,69,90,83,1794,0.58819672131147538,0.59,null,null,1913,1937,77,0.52326189231573439,null,6488,6512,256,0.51294697903822439,null,13963,13987,549,0.51113657523454847]
["CO","Colorado",".6*1/26 2HQ","MQ","  1/26",0.6,26,0.33300000000000002,25,null,null,0,649," ",13,26,16874,300,null,{"$f":"+'Main Menu'!M$10","v":60000},{"$f":"+'Main Menu'!M$12","v":20000},null,{"$f":"IF('Main Menu'!$M$14<L14,'Main Menu'!$M$14,L14)","v":0},null,{"$f":"+((U14+(T14*0.25))/26)","v":1346.1538461538462},0.6,649,16874,26,649,949,"2021-09-06",null,9,"DE","DELAWARE",9,2018,"State Maximum Weekly Benefit",{"$f":"SUMIFS($M$9:$M$61,$AH$6:$AH$58,\"=\"&$AN$7)","v":484},null,null,null,null,null,null,null,96.15384615384616,5000,5250,76,1.52E-2,0.79039999999999999,0.7,null,370.19230769230768,19250,19500,190,9.870129870129871E-3,0.51324675324675328,0.52,null,6600,75,97,90,1950,0.59090909090909094,0.59,null,null,1938,1962,78,0.52321981424148611,null,6513,6537,257,0.51297405189620759,null,13988,14012,550,0.51115241635687736]
["CT","Connecticut","1/26 avg 2HQ","MQ","  1/26",0.5,26,null,15,30,15,5,649,724,26,26,16874,300,null,{"$f":"+'Main Menu'!M$10","v":60000},{"$f":"+'Main Menu'!M$12","v":20000},null,{"$f":"IF('Main Menu'!$M$14<L15,'Main Menu'!$M$14,L15)","v":1},null,{"$f":"+((U15+(T15*0.25))/26)","v":1346.1538461538462},0.5,649,16874,{"$f":"+G15","v":26},664,964,"2021-09-06",null,10,"FL","FLORIDA",10,2019,"State Maximum Total Benefits",{"$f":"SUMIFS($AB$9:$AB$61,$AH$6:$AH$58,\"=\"&$AN$7)","v":12584},null,null,null,null,null,null,null,100.96153846153847,5250,5500,78,1.4857142857142857E-2,0.77257142857142858,0.7,null,375,19500,19750,192,9.8461538461538465E-3,0.51200000000000001,0.52,null,7000,80,104,96,2080,0.59428571428571431,0.59,null,null,1963,1987,79,0.52317880794701987,null,6538,6562,258,0.51300091771183853,null,14013,14037,551,0.51116820095625493]
["DC","District of Columbia","1/26 HQ","HQ","  1/26",0.5,26,null,50,null,null,0,444,null,26,26,11544,300,null,{"$f":"+'Main Menu'!M$10","v":60000},{"$f":"+'Main Menu'!M$12","v":20000},null,{"$f":"IF('Main Menu'!$M$14<L16,'Main Menu'!$M$14,L16)","v":0},null,1538.4615384615386,0.5,444,11544,{"$f":"+G16","v":26},444,744,"2021-09-06",null,11,"GA","GEORGIA",11,2020,"End Date for FPUC",{"$f":"SUMIFS($AF$9:$AF$61,$AH$6:$AH$58,\"=\"&$AN$7)","v":"2021-09-06"},null,null,null,null,null,null,null,105.76923076923077,5500,5750,80,1.4545454545454545E-2,0.75636363636363635,0.7,null,379.80769230769232,19750,20000,194,9.8227848101265815E-3,0.51078481012658228,0.52,null,7400,83,108,100,2158,0.58324324324324317,0.59,null,null,1998,2012,80,0.52052052052052056,null,6563,6587,259,0.51302757885113515,null,14038,14062,552,0.51118392933466306]
["DE","Delaware","1/46 2HQ","MQ","  1/46",0.56999999999999995,null,0.5,20,null,null,0,400,null,24,26,10400,300,null,{"$f":"+'Main Menu'!M$10","v":60000},{"$f":"+'Main Menu'!M$12","v":20000},null,{"$f":"IF('Main Menu'!$M$14<L17,'Main Menu'!$M$14,L17)","v":0},null,{"$f":"+((U17+(T17*0.25))/26)","v":1346.1538461538462},0.56999999999999995,400,10400,{"$f":"IF((AB17/AA17)>P17,P17,IF((AB17/AA17)<O17,O17,(AB17/AA17)))","v":26},400,700,"2021-09-06",null,12,"HI","HAWAII",12,2021,null,null,null,null,null,null,null,null,null,110.57692307692308,5750,6000,82,1.4260869565217391E-2,0.74156521739130432,0.7,null,384.61538461538464,20000,20250,196,9.7999999999999997E-3,0.50959999999999994,0.5,null,7800,88,114,106,2288,0.58666666666666667,0.59,null,null,2013,2037,81,0.52309985096870348,null,6588,6612,260,0.51305403764420154,null,14063,14087,553,0.51119960179193635]
["FL","Florida","1/26 HQ","HQ","  1/26",0.5,{"$f":"+P18","v":12},0.25,32,null,null,0,275,null,9,12,3300,300,null,{"$f":"+'Main Menu'!M$10","v":60000},{"$f":"+'Main Menu'!M$12","v":20000},null,{"$f":"IF('Main Menu'!$M$14<L18,'Main Menu'!$M$14,L18)","v":0},null,1538.4615384615386,0.5,275,3300,{"$f":"IF((AB18/AA18)>P18,P18,IF((AB18/AA18)<O18,O18,(AB18/AA18)))","v":12},275,575,"2021-06-26",null,13,"IA","IOWA",13,2022,null,null,null,null,null,null,null,null,null,115.38461538461539,6000,6250,84,1.4E-2,0.72799999999999998,0.7,null,389.42307692307691,20250,20500,198,9.7777777777777776E-3,0.50844444444444448,0.5,null,8200,92,120,110,2392,0.58341463414634154,0.59,null,null,2038,2062,82,0.52306182531894008,null,6613,6637,261,0.51308029638590658,null,14088,14112,554,0.51121521862578079]
["GA","Georgia","1/42 2HQ","MQ","  1/42",0.62,{"$f":"+P19","v":14},0.25,55,null,null,0,365,null,6,14,5110,300,null,{"$f":"+'Main Menu'!M$10","v":60000},{"$f":"+'Main Menu'!M$12","v":20000},null,{"$f":"IF('Main Menu'!$M$14<L19,'Main Menu'!$M$14,L19)","v":0},null,{"$f":"+((U19+(T19*0.25))/26)","v":1346.1538461538462},0.62,365,5110,{"$f":"IF((AB19/AA19)>P19,P19,IF((AB19/AA19)<O19,O19,(AB19/AA19)))","v":14},365,665,"2021-06-26",null,14,"ID","IDAHO",14,2023,null,null,null,null,null,null,null,null,null,120.19230769230769,6250,6500,86,1.376E-2,0.71552000000000004,0.7,null,394.23076923076923,20500,20750,200,9.7560975609756097E-3,0.50731707317073171,0.5,null,8600,96,125,115,2496,0.58046511627906971,0.59,null,null,2063,2087,83,0.5230247212796898,null,6638,6662,262,0.51310635733654708,null,14113,14137,555,0.51123078013179346]
["HI","Hawaii","1/21 HQ","HQ","  1/21",0.62,26,null,5,null,null,0,648,null,26,26,16848,300,null,{"$f":"+'Main Menu'!M$10","v":60000},{"$f":"+'Main Menu'!M$12","v":20000},null,{"$f":"IF('Main Menu'!$M$14<L20,'Main Menu'!$M$14,L20)","v":0},null,1538.4615384615386,0.62,648,16848,{"$f":"+G20","v":26},648,948,"2021-09-06",null,15,"IL","ILLINOIS",15,2024,null,null,null,null,null,null,null,null,null,125,6500,6750,88,1.3538461538461539E-2,0.70399999999999996,0.7,null,399.03846153846155,20750,21000,202,9.7349397590361444E-3,0.50621686746987948,0.5,null,9000,101,131,121,2626,0.58355555555555561,0.56999999999999995,null,null,2088,2112,84,0.52298850574712641,null,6663,6687,263,0.51313222272249737,null,14138,14162,556,0.51124628660348004]
["IA","Iowa","1/23 HQ for no dependents","HQ","  1/23",0.56999999999999995,26,0.33300000000000002,72,87,14,7,481,591,8,26,12506,300,null,{"$f":"+'Main Menu'!M$10","v":60000},{"$f":"+'Main Menu'!M$12","v":20000},null,{"$f":"IF('Main Menu'!$M$14<L21,'Main Menu'!$M$14,L21)","v":1},null,1538.4615384615386,0.56999999999999995,481,12506,{"$f":"IF((AB21/AA21)>P21,P21,IF((AB21/AA21)<O21,O21,(AB21/AA21)))","v":26},495,795,"2021-06-12",null,16,"IN","INDIANA",16,2025,null,null,null,null,null,null,null,null,null,129.80769230769232,6750,7000,90,1.3333333333333334E-2,0.69333333333333325,0.7,null,403.84615384615387,21000,21250,204,9.7142857142857135E-3,0.50514285714285712,0.5,null,9500,105,136,126,2730,0.57473684210526321,0.56999999999999995,null,null,2113,2137,85,0.52295314718409835,null,6688,6712,264,0.51315789473684215,null,14163,14187,557,0.51126173833227417]
["ID","Idaho","1/26 HQ","HQ","  1/26",0.5,{"$f":"+P22","v":20},null,72,null,null,0,448,null,10,20,8960,300,null,{"$f":"+'Main Menu'!M$10","v":60000},{"$f":"+'Main Menu'!M$12","v":20000},null,{"$f":"IF('Main Menu'!$M$14<L22,'Main Menu'!$M$14,L22)","v":0},null,1538.4615384615386,0.5,448,8960,{"$f":"IF((AB22/AA22)>P22,P22,IF((AB22/AA22)<O22,O22,(AB22/AA22)))","v":20},448,748,"2021-06-19",null,17,"KS","KANSAS",null,null,null,null,null,null,null,null,null,null,null,134.61538461538461,7000,7250,92,1.3142857142857144E-2,0.68342857142857139,0.7,null,408.65384615384613,21250,21500,206,9.6941176470588235E-3,0.5040941176470588,0.5,null,10000,110,143,132,2860,0.57199999999999995,0.56999999999999995,null,null,2138,2162,86,0.52291861552853136,null,6713,6737,265,0.51318337553999704,null,14188,14212,558,0.51127713560755561]
["IL","Illinois",".47*2HQW/26","MQ",0.47,0.47,26,null,51,null,26,6,484,null,26,26,12584,300,null,{"$f":"+'Main Menu'!M$10","v":60000},{"$f":"+'Main Menu'!M$12","v":20000},null,{"$f":"IF('Main Menu'!$M$14<L23,'Main Menu'!$M$14,L23)","v":1},null,{"$f":"+((U23+(T23*0.25))/26)","v":1346.1538461538462},0.47,484,12584,{"$f":"+G23","v":26},510,810,"2021-09-06",null,18,"KY","KENTUCKY",null,null,null,null,null,null,null,null,null,null,null,139.42307692307693,7250,7500,94,1.296551724137931E-2,0.67420689655172406,0.7,null,413.46153846153845,21500,21750,208,9.6744186046511631E-3,0.50306976744186049,0.5,null,10500,115,149,138,2990,0.56952380952380954,0.56999999999999995,null,null,2163,2187,87,0.52288488210818307,null,6738,6762,266,0.51320866726031467,null,14213,14237,559,0.51129247871666783]
["IN","Indiana",".47 * Avg weekly wage","WW",0.47,0.47,26,0.28000000000000003,37,null,null,0,390,null,26,26,10140,300,null,{"$f":"+'Main Menu'!M$10","v":60000},{"$f":"+'Main Menu'!M$12","v":20000},null,{"$f":"IF('Main Menu'!$M$14<L24,'Main Menu'!$M$14,L24)","v":0},null,{"$f":"+((U24+(T24*0.25))/26)","v":1346.1538461538462},0.47,390,10140,{"$f":"IF((AB24/AA24)>P24,P24,IF((AB24/AA24)<O24,O24,(AB24/AA24)))","v":26},390,690,"2021-06-19",null,19,"LA","LOUISIANA",null,null,null,null,null,null,null,null,null,null,null,144.23076923076923,7500,7750,96,1.2800000000000001E-2,0.66559999999999997,0.7,null,418.26923076923077,21750,22000,210,9.655172413793104E-3,0.50206896551724134,0.5,null,11000,120,156,144,3120,0.56727272727272726,0.56999999999999995,null,null,2188,2212,88,0.52285191956124311,null,6763,6787,267,0.5132337719946769,null,14238,14262,560,0.51130776794493604]
["KS","Kansas",".0425*HQW","HQ",4.2500000000000003E-2,0.55000000000000004,{"$f":"+P25","v":16},0.33300000000000002,122,null,null,0,488,null,10,16,7808,300,null,{"$f":"+'Main Menu'!M$10","v":60000},{"$f":"+'Main Menu'!M$12","v":20000},null,{"$f":"IF('Main Menu'!$M$14<L25,'Main Menu'!$M$14,L25)","v":0},null,1538.4615384615386,0.55000000000000004,488,7808,{"$f":"IF((AB25/AA25)>P25,P25,IF((AB25/AA25)<O25,O25,(AB25/AA25)))","v":16},488,788,"2021-09-06",null,20,"MA","MASSACHUSETTS",null,null,null,null,null,null,null,null,null,null,null,149.03846153846155,7750,8000,98,1.264516129032258E-2,0.6575483870967741,0.56999999999999995,null,423.07692307692309,22000,22250,212,9.6363636363636356E-3,0.50109090909090903,0.5,null,11500,126,164,151,3276,0.56973913043478264,0.56999999999999995,null,null,2213,2237,89,0.52281970176231363,null,6788,6812,268,0.5132586918090748,null,14263,14287,561,0.51132300357568528]
["KY","Kentucky",".011923*BPW","AW",1.1900000000000001E-2,0.62,26,0.33,39,null,null,0,552,null,15,26,14352,300,null,{"$f":"+'Main Menu'!M$10","v":60000},{"$f":"+'Main Menu'!M$12","v":20000},null,{"$f":"IF('Main Menu'!$M$14<L26,'Main Menu'!$M$14,L26)","v":0},null,{"$f":"+T26/52","v":1153.8461538461538},0.62,552,14352,{"$f":"IF((AB26/AA26)>P26,P26,IF((AB26/AA26)<O26,O26,(AB26/AA26)))","v":26},552,852,"2021-09-06",null,21,"MD","MARYLAND",null,null,null,null,null,null,null,null,null,null,null,153.84615384615384,8000,8250,100,1.2500000000000001E-2,0.65,0.56999999999999995,null,427.88461538461536,22250,22500,214,9.6179775280898876E-3,0.50013483146067417,0.5,null,12500,137,178,164,3562,0.56991999999999998,0.56999999999999995,null,null,2238,2262,90,0.52278820375335122,null,6813,6837,269,0.5132834287391751,null,14288,14312,562,0.51133818589025759]
["LA","Louisiana","1/25 avg4QW*1.05*1.15","MQ","  1/25",0.63,26,null,10,null,null,0,247,null,26,26,6422,300,null,{"$f":"+'Main Menu'!M$10","v":60000},{"$f":"+'Main Menu'!M$12","v":20000},null,{"$f":"IF('Main Menu'!$M$14<L27,'Main Menu'!$M$14,L27)","v":0},null,{"$f":"+T27/52","v":1153.8461538461538},0.63,247,6422,{"$f":"+G27","v":26},247,547,"2021-09-06",null,22,"ME","MAINE",null,null,null,null,null,null,null,null,null,null,null,158.65384615384616,8250,8500,102,1.2363636363636363E-2,0.64290909090909087,0.56999999999999995,null,432.69230769230768,22500,22750,216,9.5999999999999992E-3,0.49920000000000003,0.5,null,13500,148,192,178,3848,0.57007407407407407,0.56999999999999995,null,null,2263,2287,91,0.52275740167918694,null,6838,6862,270,0.51330798479087447,null,14313,14337,563,0.51135331516802907]
["MA","Massachusetts",".5*2HQW/26 up to 57.5% of State's AWW","MQ","  1/26",0.5,26,0.36,98,147,25,7,823,1234,10,30,24690,300,null,{"$f":"+'Main Menu'!M$10","v":60000},{"$f":"+'Main Menu'!M$12","v":20000},null,{"$f":"IF('Main Menu'!$M$14<L28,'Main Menu'!$M$14,L28)","v":1},null,{"$f":"+((U28+(T28*0.25))/26)","v":1346.1538461538462},0.5,673.07692307692309,20192.307692307691,{"$f":"IF((AB28/AA28)>P28,P28,IF((AB28/AA28)<O28,O28,(AB28/AA28)))","v":29.999999999999996},698.07692307692309,998.07692307692309,"2021-09-06",null,23,"MI","MICHIGAN",null,null,null,null,null,null,null,null,null,null,null,163.46153846153845,8500,8750,104,1.2235294117647059E-2,0.63623529411764712,0.56999999999999995,null,437.5,22750,23000,218,9.5824175824175822E-3,0.49828571428571428,0.5,null,14500,159,207,191,4134,0.57020689655172407,0.56999999999999995,null,null,2288,2312,92,0.52272727272727271,null,6863,6887,271,0.5133323619408422,null,14338,14362,564,0.51136839168642767]
["MD","Maryland","1/24 HQW","HQ","  1/24",0.54,26,null,50,null,8,5,430,null,26,26,11180,300,null,{"$f":"+'Main Menu'!M$10","v":60000},{"$f":"+'Main Menu'!M$12","v":20000},null,{"$f":"IF('Main Menu'!$M$14<L29,'Main Menu'!$M$14,L29)","v":1},null,1538.4615384615386,0.54,430,11180,{"$f":"+G29","v":26},438,738,"2021-07-03",null,24,"MN","MINNESOTA",null,null,null,null,null,null,null,null,null,null,null,168.26923076923077,8750,9000,106,1.2114285714285715E-2,0.62994285714285714,0.56999999999999995,null,442.30769230769232,23000,23250,220,9.5652173913043474E-3,0.49739130434782608,0.5,null,15500,167,217,200,4342,0.56025806451612903,0.56999999999999995,null,null,2313,2337,93,0.52269779507133585,null,6888,6912,272,0.51335656213704994,null,14363,14387,565,0.5113834157209497]
["ME","Maine","1/22 avg2HQW","MQ","  1/22",0.59,26,0.33300000000000002,75,115,10,10,445,667,15,26,11570,300,null,{"$f":"+'Main Menu'!M$10","v":60000},{"$f":"+'Main Menu'!M$12","v":20000},null,{"$f":"IF('Main Menu'!$M$14<L30,'Main Menu'!$M$14,L30)","v":1},null,{"$f":"+((U30+(T30*0.25))/26)","v":1346.1538461538462},0.59,445,11570,{"$f":"IF((AB30/AA30)>P30,P30,IF((AB30/AA30)<O30,O30,(AB30/AA30)))","v":26},455,755,"2021-09-06",null,25,"MO","MISSOURI",null,null,null,null,null,null,null,null,null,null,null,173.07692307692307,9000,9250,108,1.2E-2,0.624,0.56999999999999995,null,447.11538461538464,23250,23500,222,9.548387096774193E-3,0.49651612903225806,0.5,null,16500,178,231,214,4628,0.5609696969696969,0.56999999999999995,null,null,2338,2362,94,0.52266894781864848,null,6913,6937,273,0.51338058729929126,null,14388,14412,566,0.51139838754517652]
["MI","Michigan",".041*HQW","HQ",4.1000000000000002E-2,0.53,{"$f":"+P31","v":20},0.43,147,180,6,5,362,null,14,20,7240,300,null,{"$f":"+'Main Menu'!M$10","v":60000},{"$f":"+'Main Menu'!M$12","v":20000},null,{"$f":"IF('Main Menu'!$M$14<L31,'Main Menu'!$M$14,L31)","v":1},null,1538.4615384615386,0.53,362,7240,20,368,668,"2021-09-06",null,26,"MS","MISSISSIPPI",null,null,null,null,null,null,null,null,null,null,null,177.88461538461539,9250,9500,110,1.1891891891891892E-2,0.61837837837837839,0.56999999999999995,null,451.92307692307691,23500,23750,224,9.5319148936170214E-3,0.49565957446808512,0.5,null,17500,188,244,226,4888,0.55862857142857136,0.56999999999999995,null,null,2363,2387,95,0.52264071096064324,null,6938,6962,274,0.5134044393196886,null,14413,14437,567,0.51141330743079172]
["MN","Minnesota",".5*HQW/13","HQ","  1/13",0.5,26,0.33300000000000002,28,null,null,0,462,740,11,26,12012,300,null,{"$f":"+'Main Menu'!M$10","v":60000},{"$f":"+'Main Menu'!M$12","v":20000},null,{"$f":"IF('Main Menu'!$M$14<L32,'Main Menu'!$M$14,L32)","v":0},null,1538.4615384615386,0.5,462,12012,26,462,762,"2021-09-06",null,27,"MT","MONTANA",null,null,null,null,null,null,null,null,null,null,null,182.69230769230768,9500,9750,112,1.1789473684210527E-2,0.6130526315789474,0.56999999999999995,null,456.73076923076923,23750,24000,226,9.5157894736842101E-3,0.49482105263157894,0.5,null,18500,199,259,239,5174,0.55935135135135139,0.54,null,null,2388,2412,96,0.52261306532663321,null,6963,6987,275,0.51342812006319116,null,14438,14462,568,0.51142817564759668]
["MO","Missouri",".04*avg2HQW","MQ",0.04,0.52,{"$f":"+P33","v":20},0.33300000000000002,35,null,null,0,320,null,8,20,6400,300,null,{"$f":"+'Main Menu'!M$10","v":60000},{"$f":"+'Main Menu'!M$12","v":20000},null,{"$f":"IF('Main Menu'!$M$14<L33,'Main Menu'!$M$14,L33)","v":0},null,{"$f":"+((U33+(T33*0.25))/26)","v":1346.1538461538462},0.52,320,6400,20,320,620,"2021-06-12",null,28,"NC","NORTH CAROLINA",null,null,null,null,null,null,null,null,null,null,null,187.5,9750,10000,114,1.1692307692307693E-2,0.60799999999999998,0.56999999999999995,null,461.53846153846155,24000,24250,228,9.4999999999999998E-3,0.49399999999999999,0.5,null,19500,206,268,247,5356,0.54933333333333334,0.54,null,null,2413,2437,97,0.52258599254040616,null,6988,7012,276,0.51345163136805949,null,14463,14487,569,0.51144299246352765]
["MS","Mississippi","1/26 HQ","HQ","  1/26",0.5,26,0.33300000000000002,30,null,null,0,235,null,13,26,6110,300,null,{"$f":"+'Main Menu'!M$10","v":60000},{"$f":"+'Main Menu'!M$12","v":20000},null,{"$f":"IF('Main Menu'!$M$14<L34,'Main Menu'!$M$14,L34)","v":0},null,1538.4615384615386,0.5,235,6110,26,235,535,"2021-06-12",null,29,"ND","NORTH DAKOTA",null,null,null,null,null,null,null,null,null,null,null,192.30769230769232,10000,10250,116,1.1599999999999999E-2,0.60319999999999996,0.56999999999999995,null,466.34615384615387,24250,24500,230,9.4845360824742271E-3,0.4931958762886598,0.5,null,20500,217,282,260,5642,0.55043902439024395,0.54,null,null,2438,2462,98,0.5225594749794914,null,7013,7037,277,0.51347497504634254,null,14488,14512,570,0.51145775814467143]
["MT","Montana","1.9% of wages in 2HQ","MQ",0.02,0.49,null,26,163,null,null,0,552,null,8,26,14352,300,null,{"$f":"+'Main Menu'!M$10","v":60000},{"$f":"+'Main Menu'!M$12","v":20000},null,{"$f":"IF('Main Menu'!$M$14<L35,'Main Menu'!$M$14,L35)","v":0},null,{"$f":"+((U35+(T35*0.25))/26)","v":1346.1538461538462},0.49,552,14352,26,552,852,"2021-06-27",null,30,"NE","NEBRASKA",null,null,null,null,null,null,null,null,null,null,null,197.11538461538461,10250,10500,118,1.1512195121951219E-2,0.59863414634146339,0.56999999999999995,null,471.15384615384613,24500,24750,232,9.4693877551020409E-3,0.49240816326530612,0.5,null,21500,227,295,272,5902,0.5490232558139535,0.54,null,null,2463,2487,"*98",{"$error":"#VALUE!"},null,7038,7062,278,0.5134981528843422,null,14513,14537,571,0.51147247295528142]
["NC","North Carolina","1/52 of last 2 quarters","MQ","  1/52",0.5,{"$f":"+P36","v":12},null,15,null,null,0,350,null,12,12,4200,300,null,{"$f":"+'Main Menu'!M$10","v":60000},{"$f":"+'Main Menu'!M$12","v":20000},null,{"$f":"IF('Main Menu'!$M$14<L36,'Main Menu'!$M$14,L36)","v":0},null,{"$f":"+(T36/2)/26","v":1153.8461538461538},0.5,350,4200,{"$f":"+G36","v":12},350,650,"2021-09-06",null,31,"NH","NEW HAMPSHIRE",null,null,null,null,null,null,null,null,null,null,null,201.92307692307693,10500,10750,120,1.1428571428571429E-2,0.59428571428571431,0.56999999999999995,null,475.96153846153845,24750,25000,234,9.4545454545454551E-3,0.49163636363636365,0.5,null,22500,238,309,286,6188,0.55004444444444445,0.54,null,null,2488,2512,99,0.51728295819935688,null,7063,7087,279,0.51352116664306957,null,14538,14562,572,0.51148713715779337]
["ND","North Dakota","1/65 tot wage in 2 HQ and .5 wages in 3rd highest qtr","MQ","  1/65",0.4,null,26,43,null,null,0,618,null,12,26,16068,300,null,{"$f":"+'Main Menu'!M$10","v":60000},{"$f":"+'Main Menu'!M$12","v":20000},null,{"$f":"IF('Main Menu'!$M$14<L37,'Main Menu'!$M$14,L37)","v":0},null,{"$f":"+((U37+(T37*0.25))/26)","v":1346.1538461538462},0.4,538.46153846153845,14000,{"$f":"IF((AB37/AA37)>P37,P37,IF((AB37/AA37)<O37,O37,(AB37/AA37)))","v":26},538.46153846153845,838.46153846153845,"2021-06-19",null,32,"NJ","NEW JERSEY",null,null,null,null,null,null,null,null,null,null,null,206.73076923076923,10750,11000,122,1.1348837209302326E-2,0.59013953488372095,0.56999999999999995,null,480.76923076923077,25000,25250,236,9.4400000000000005E-3,0.49087999999999998,0.5,null,23500,249,324,299,6474,0.55097872340425535,0.54,null,null,null,null,null,null,null,7088,7112,280,0.51354401805869065,null,"​14563",14587,"573​",{"$error":"#VALUE!"}]
["NE","Nebraska",".5 AWW rounded down to nearest $1 not to exceed .5 state AWW","WW",0.5,0.5,26,0.33300000000000002,70,null,null,0,440,null,10,26,11440,300,null,{"$f":"+'Main Menu'!M$10","v":60000},{"$f":"+'Main Menu'!M$12","v":20000},null,{"$f":"IF('Main Menu'!$M$14<L38,'Main Menu'!$M$14,L38)","v":0},null,1538.4615384615386,0.5,440,11440,{"$f":"IF((AB38/AA38)>P38,P38,IF((AB38/AA38)<O38,O38,(AB38/AA38)))","v":26},440,740,"2021-06-19",null,33,"NM","NEW MEXICO",null,null,null,null,null,null,null,null,null,null,null,211.53846153846155,11000,11250,124,1.1272727272727273E-2,0.58618181818181814,0.56999999999999995,null,485.57692307692309,25250,25500,238,9.4257425742574254E-3,0.49013861386138613,0.5,null,24500,254,330,305,6604,0.53910204081632651,0.54,null,null,null,null,null,null,null,7113,7137,281,0.51356670884296352,null,"​14588",14612,"574​",{"$error":"#VALUE!"}]
["NH","New Hampshire","Table","AW",0.01,0.54,26,null,32,null,null,0,427,null,26,26,11102,300,null,{"$f":"+'Main Menu'!M$10","v":60000},{"$f":"+'Main Menu'!M$12","v":20000},null,{"$f":"IF('Main Menu'!$M$14<L39,'Main Menu'!$M$14,L39)","v":0},null,{"$f":"+((U39+(T39*0.25))/26)","v":1346.1538461538462},{"$f":"IF((Y39*52)<9000,59%,IF((Y39*52)<18500,57%,IF((Y39*52)<27500,54%,IF((Y39*52)<39500,53%,52%))))","v":0.52},427,11102,{"$f":"+G39","v":26},427,727,"2021-06-19",null,34,"NV","NEVADA",null,null,null,null,null,null,null,null,null,null,null,216.34615384615384,11250,11500,126,1.12E-2,0.58240000000000003,0.56999999999999995,null,490.38461538461536,25500,25750,240,9.4117647058823521E-3,0.48941176470588238,0.48,null,25500,265,344,318,6890,0.54039215686274511,0.54,null,null,null,null,null,null,null,7138,7162,282,0.51358924068366485,null,14613,"14637​","575​",{"$error":"#VALUE!"}]
["NJ","New Jersey",".6*avg base wk wg","WW",0.6,0.6,26,1,120,138,30,2,713,null,20,26,18538,300,null,{"$f":"+'Main Menu'!M$10","v":60000},{"$f":"+'Main Menu'!M$12","v":20000},null,{"$f":"IF('Main Menu'!$M$14<L40,'Main Menu'!$M$14,L40)","v":1},null,{"$f":"+(T40/52)","v":1153.8461538461538},{"$f":"IF(C40=\"Table\",F40,F40)","v":0.6},692.30769230769226,18000,{"$f":"IF((AB40/AA40)>P40,P40,IF((AB40/AA40)<O40,O40,(AB40/AA40)))","v":26},722.30769230769226,1022.3076923076923,"2021-09-06",null,35,"NY","NEW YORK",null,null,null,null,null,null,null,null,null,null,null,221.15384615384616,11500,11750,128,1.1130434782608696E-2,0.57878260869565212,0.56999999999999995,null,495.19230769230768,25750,26000,242,9.3980582524271841E-3,0.4886990291262136,0.48,null,26500,275,357,330,7150,0.53962264150943395,0.54,null,null,null,null,null,null,null,7163,7187,283,0.51361161524500909,null,14638,"14662​","​576",{"$error":"#VALUE!"}]
["NM","New Mexico",".535 avg WW in HQ","HQ",0.53500000000000003,0.54,26,0.6,86,129,25,2,461,511,14,26,{"$f":"+M41*P41","v":11986},300,null,{"$f":"+'Main Menu'!M$10","v":60000},{"$f":"+'Main Menu'!M$12","v":20000},null,{"$f":"IF('Main Menu'!$M$14<L41,'Main Menu'!$M$14,L41)","v":1},null,{"$f":"+U41/13","v":1538.4615384615386},0.54,{"$f":"IF((Y41*Z41)>$M41,$M41,IF((Y41*Z41)<$I41,$I41,$Y41*$Z41))","v":461},{"$f":"IF((AA41*P41)>Q41,Q41,(AA41*P41))","v":11986},{"$f":"IF((AB41/AA41)>P41,P41,IF((AB41/AA41)<O41,O41,(AB41/AA41)))","v":26},{"$f":"IF(W41>0,AA41+(W41*K41),AA41)","v":486},{"$f":"+AD41+R41","v":786},"2021-09-06",null,36,"OH","OHIO",null,null,null,null,null,null,null,null,null,null,null,225.96153846153845,11750,12000,130,1.1063829787234043E-2,0.5753191489361702,0.56999999999999995,null,500,26000,26250,244,9.3846153846153853E-3,0.48799999999999999,0.48,null,27500,286,372,343,7436,0.54080000000000006,0.53,null,null,null,null,null,null,null,7188,7212,284,0.51363383416805786,null,14663,"14687​","​577",{"$error":"#VALUE!"}]
["NV","Nevada","1/25 HQ","HQ","  1/25",0.52,26,0.33300000000000002,16,null,null,0,483,null,8,26,12558,300,null,{"$f":"+'Main Menu'!M$10","v":60000},{"$f":"+'Main Menu'!M$12","v":20000},null,{"$f":"IF('Main Menu'!$M$14<L42,'Main Menu'!$M$14,L42)","v":0},null,1538.4615384615386,0.52,483,12558,{"$f":"IF((AB42/AA42)>P42,P42,IF((AB42/AA42)<O42,O42,(AB42/AA42)))","v":26},483,783,"2021-09-06",null,37,"OK","OKLAHOMA",null,null,null,null,null,null,null,null,null,null,null,230.76923076923077,12000,12250,132,1.0999999999999999E-2,0.57199999999999995,0.56999999999999995,null,504.80769230769232,26250,26500,246,9.3714285714285722E-3,0.4873142857142857,0.48,null,28500,290,377,348,7540,0.52912280701754388,0.53,null,null,null,null,null,null,null,7213,7237,285,0.51365589907112164,null,14688,"14712​","​578",{"$error":"#VALUE!"}]
["NY","New York","1/26 HQ (if HQW < $3,575 then 1/25 HQ)","HQ","  1/26",0.5,26,null,104,null,null,0,504,null,26,26,13104,300,null,{"$f":"+'Main Menu'!M$10","v":60000},{"$f":"+'Main Menu'!M$12","v":20000},null,{"$f":"IF('Main Menu'!$M$14<L43,'Main Menu'!$M$14,L43)","v":0},null,1538.4615384615386,0.5,504,13104,{"$f":"+G43","v":26},504,804,"2021-09-06",null,38,"OR","OREGON",null,null,null,null,null,null,null,null,null,null,null,235.57692307692307,12250,12500,134,1.0938775510204082E-2,0.56881632653061232,0.54,null,509.61538461538464,26500,26750,248,9.3584905660377363E-3,0.48664150943396223,0.48,null,29500,301,391,361,7826,0.53057627118644068,0.53,null,null,null,null,null,null,null,7238,7262,286,0.51367781155015202,null,14713,"14737​","​579",{"$error":"#VALUE!"}]
["OH","Ohio",".5*avg base wk wg","WW",0.5,0.5,26,1,135,null,25,5,480,647,20,26,12480,300,null,{"$f":"+'Main Menu'!M$10","v":60000},{"$f":"+'Main Menu'!M$12","v":20000},null,{"$f":"IF('Main Menu'!$M$14<L44,'Main Menu'!$M$14,L44)","v":1},null,{"$f":"+(T44/52)","v":1153.8461538461538},0.5,480,12480,{"$f":"IF((AB44/AA44)>P44,P44,IF((AB44/AA44)<O44,O44,(AB44/AA44)))","v":26},505,805,"2021-06-26",null,39,"PA","PENNSYLVANIA",null,null,null,null,null,null,null,null,null,null,null,240.38461538461539,12500,12750,136,1.0880000000000001E-2,0.56576000000000004,0.54,null,514.42307692307691,26750,27000,250,9.3457943925233638E-3,0.48598130841121495,0.48,null,30500,311,404,373,8086,0.53022950819672132,0.53,null,null,null,null,null,null,null,7263,7287,287,0.51369957317912707,null,14738,"14762​","580​",{"$error":"#VALUE!"}]
["OK","Oklahoma","1/23 HQ","HQ","  1/23",0.56999999999999995,26,1,16,null,null,0,539,null,16,26,14014,300,null,{"$f":"+'Main Menu'!M$10","v":60000},{"$f":"+'Main Menu'!M$12","v":20000},null,{"$f":"IF('Main Menu'!$M$14<L45,'Main Menu'!$M$14,L45)","v":0},null,1538.4615384615386,0.56999999999999995,539,14014,{"$f":"IF((AB45/AA45)>P45,P45,IF((AB45/AA45)<O45,O45,(AB45/AA45)))","v":26},539,839,"2021-06-26",null,40,"PR","PUERTO RICO",null,null,null,null,null,null,null,null,null,null,null,245.19230769230768,12750,13000,138,1.0823529411764706E-2,0.56282352941176472,0.54,null,519.23076923076928,27000,27250,252,9.3333333333333341E-3,0.48533333333333328,0.48,null,31500,321,417,385,8346,0.52990476190476199,0.53,null,null,null,null,null,null,null,7288,7312,288,0.51372118551042811,null,14763,"14787​","​581",{"$error":"#VALUE!"}]
["OR","Oregon",".0125 of BPW","AW",1.2500000000000001E-2,0.65,26,0.33300000000000002,151,null,null,0,648,null,3,26,16848,300,null,{"$f":"+'Main Menu'!M$10","v":60000},{"$f":"+'Main Menu'!M$12","v":20000},null,{"$f":"IF('Main Menu'!$M$14<L46,'Main Menu'!$M$14,L46)","v":0},null,{"$f":"+(T46/52)","v":1153.8461538461538},0.65,648,16848,{"$f":"IF((AB46/AA46)>P46,P46,IF((AB46/AA46)<O46,O46,(AB46/AA46)))","v":26},648,948,"2021-09-06",null,41,"RI","RHODE ISLAND",null,null,null,null,null,null,null,null,null,null,null,250,13000,13250,140,1.0769230769230769E-2,0.56000000000000005,0.54,null,524.03846153846155,27250,27500,254,9.3211009174311923E-3,0.48469724770642203,0.48,null,32500,331,430,397,8606,0.52959999999999996,0.53,null,null,null,null,null,null,null,7313,7337,289,0.51374265007520847,null,14788,"14812​","​582",{"$error":"#VALUE!"}]
["PA","Pennsylvania","Table","HQ","  1/25",0.51,26,null,68,76,5,2,572,580,18,26,14872,300,null,{"$f":"+'Main Menu'!M$10","v":60000},{"$f":"+'Main Menu'!M$12","v":20000},null,{"$f":"IF('Main Menu'!$M$14<L47,'Main Menu'!$M$14,L47)","v":1},null,{"$f":"+((U47+(T47*0.25))/26)","v":1346.1538461538462},0.51,572,14872,{"$f":"IF((AB47/AA47)>P47,P47,IF((AB47/AA47)<O47,O47,(AB47/AA47)))","v":26},577,877,"2021-09-06",null,42,"SC","SOUTH CAROLINA",null,null,null,null,null,null,null,null,null,null,null,254.80769230769232,13250,13500,142,1.0716981132075473E-2,0.55728301886792453,0.54,null,528.84615384615381,27500,27750,256,9.3090909090909092E-3,0.48407272727272732,0.48,null,33500,342,445,410,8892,0.53086567164179099,0.53,null,null,null,null,null,null,null,7338,7362,290,0.51376396838375582]
["PR","Puerto Rico","Table","HQ","  1/26",0.5,26,null,33,null,null,0,190,null,26,26,4940,300,null,{"$f":"+'Main Menu'!M$10","v":60000},{"$f":"+'Main Menu'!M$12","v":20000},null,{"$f":"IF('Main Menu'!$M$14<L48,'Main Menu'!$M$14,L48)","v":0},null,{"$f":"+((U48+(T48*0.25))/26)","v":1346.1538461538462},0.5,190,4940,{"$f":"+G48","v":26},190,490,"2021-09-06",null,43,"SD","SOUTH DAKOTA",null,null,null,null,null,null,null,null,null,null,null,259.61538461538464,13500,13750,144,1.0666666666666666E-2,0.55466666666666664,0.54,null,533.65384615384619,27750,28000,258,9.2972972972972974E-3,0.48345945945945945,0.48,null,34500,352,458,422,9152,0.53055072463768116,0.53,null,null,null,null,null,null,null,7363,7387,291,0.51378514192584546]
["RI","Rhode Island",".0385 * Ave of 2HQW","MQ",3.85E-2,0.5,26,0.33300000000000002,53,103,15,5,586,732,17,26,15236,300,null,{"$f":"+'Main Menu'!M$10","v":60000},{"$f":"+'Main Menu'!M$12","v":20000},null,{"$f":"IF('Main Menu'!$M$14<L49,'Main Menu'!$M$14,L49)","v":1},null,{"$f":"+((U49+(T49*0.25))/26)","v":1346.1538461538462},0.5,586,15236,{"$f":"IF((AB49/AA49)>P49,P49,IF((AB49/AA49)<O49,O49,(AB49/AA49)))","v":26},601,901,"2021-09-06",null,44,"TN","TENNESSEE",null,null,null,null,null,null,null,null,null,null,null,264.42307692307691,13750,14000,146,1.0618181818181818E-2,0.55214545454545461,0.54,null,538.46153846153845,28000,28250,260,9.285714285714286E-3,0.48285714285714287,0.48,null,35500,362,471,434,9412,0.5302535211267605,0.53,null,null,null,null,null,null,null,7388,7412,292,0.51380617217108826]
["SC","South Carolina",".5* ave WW in HQ","HQ",0.5,0.5,26,0.33300000000000002,42,null,null,0,326,null,13,20,6520,300,null,{"$f":"+'Main Menu'!M$10","v":60000},{"$f":"+'Main Menu'!M$12","v":20000},null,{"$f":"IF('Main Menu'!$M$14<L50,'Main Menu'!$M$14,L50)","v":0},null,1538.4615384615386,0.5,326,6520,20,326,626,"2021-06-30",null,45,"TX","TEXAS",null,null,null,null,null,null,null,null,null,null,null,269.23076923076923,14000,14250,148,1.0571428571428572E-2,0.54971428571428571,0.54,null,543.26923076923072,28250,28500,262,9.2743362831858404E-3,0.48226548672566377,0.48,null,36500,372,484,446,9672,0.52997260273972602,0.53,null,null,null,null,null,null,null,7413,7437,293,0.51382706056927019]
["SD","South Dakota","1/26 HQ","HQ","  1/26",0.5,26,0.33300000000000002,28,null,null,0,414,null,15,26,10764,300,null,{"$f":"+'Main Menu'!M$10","v":60000},{"$f":"+'Main Menu'!M$12","v":20000},null,{"$f":"IF('Main Menu'!$M$14<L51,'Main Menu'!$M$14,L51)","v":0},null,1538.4615384615386,0.5,414,10764,26,414,714,"2021-06-26",null,46,"UT","UTAH",null,null,null,null,null,null,null,null,null,null,null,274.03846153846155,14250,14500,150,1.0526315789473684E-2,0.54736842105263162,0.54,null,548.07692307692309,28500,28750,264,9.2631578947368429E-3,0.48168421052631577,0.48,null,37500,383,498,460,9958,0.53109333333333331,0.53,null,null,null,null,null,null,null,7438,7462,294,0.51384780855068568]
["TN","Tennessee","Table - 1/26 avg 2HQW","MQ","  1/26",0.5,26,0.25,30,null,null,0,275,null,13,26,7150,300,null,{"$f":"+'Main Menu'!M$10","v":60000},{"$f":"+'Main Menu'!M$12","v":20000},null,{"$f":"IF('Main Menu'!$M$14<L52,'Main Menu'!$M$14,L52)","v":0},null,{"$f":"+((U52+(T52*0.25))/26)","v":1346.1538461538462},0.5,275,7150,26,275,575,"2021-07-03",null,47,"VA","VIRGINIA",null,null,null,null,null,null,null,null,null,null,null,278.84615384615387,14500,14750,152,1.0482758620689656E-2,0.54510344827586199,0.54,null,552.88461538461536,28750,29000,266,9.2521739130434783E-3,0.48111304347826089,0.48,null,38500,394,512,473,10244,0.53215584415584416,0.53,null,null,null,null,null,null,null,7463,7487,"*294",{"$error":"#VALUE!"}]
["TX","Texas","1/25 HQ","HQ","  1/25",0.52,26,0.27,69,null,null,0,535,null,10,26,13910,300,null,{"$f":"+'Main Menu'!M$10","v":60000},{"$f":"+'Main Menu'!M$12","v":20000},null,{"$f":"IF('Main Menu'!$M$14<L53,'Main Menu'!$M$14,L53)","v":0},null,1538.4615384615386,0.52,535,13910,26,535,835,"2021-06-26",null,48,"VI","VIRGIN ISLANDS",null,null,null,null,null,null,null,null,null,null,null,283.65384615384613,14750,15000,154,1.0440677966101694E-2,0.54291525423728815,0.54,null,557.69230769230774,29000,29250,268,9.2413793103448272E-3,0.48055172413793101,0.48,null,39500,405,527,486,10530,0.53316455696202525,0.52,null,null,null,null,null,null,null,7488,7512,295,0.51215277777777779]
["UT","Utah","1/26 HQ - $5","HQ","  1/26",0.5,null,0.27,32,null,null,0,580,null,10,26,15080,300,null,{"$f":"+'Main Menu'!M$10","v":60000},{"$f":"+'Main Menu'!M$12","v":20000},null,{"$f":"IF('Main Menu'!$M$14<L54,'Main Menu'!$M$14,L54)","v":0},null,1538.4615384615386,0.5,580,15080,26,580,880,"2021-06-26",null,49,"VT","VERMONT",null,null,null,null,null,null,null,null,null,null,null,288.46153846153845,15000,15250,156,1.04E-2,0.54080000000000006,0.54,null,562.5,29250,29500,270,9.2307692307692316E-3,0.48,0.48,null,null,null,null,null,null,null,null,null,null,null,null,null,null,null,7513,7537,296,0.51217888992413152]
["VA","Virginia","1/50 tot2HQW (Table)","MQ","  1/50",0.52,null,26,60,null,null,0,378,null,12,26,9828,300,null,{"$f":"+'Main Menu'!M$10","v":60000},{"$f":"+'Main Menu'!M$12","v":20000},null,{"$f":"IF('Main Menu'!$M$14<L55,'Main Menu'!$M$14,L55)","v":0},null,{"$f":"+((U55+(T55*0.25))/26)","v":1346.1538461538462},0.52,378,9828,26,378,678,"2021-09-06",null,50,"WA","WASHINGTON",null,null,null,null,null,null,null,null,null,null,null,293.26923076923077,15250,15500,158,1.0360655737704918E-2,0.53875409836065569,0.54,null,567.30769230769226,29500,29750,272,9.2203389830508471E-3,0.47945762711864409,0.48,null,null,null,null,null,null,null,null,null,null,null,null,null,null,null,7538,7562,297,0.51220482886707352]
["VI","Virgin Islands","1/26 HQ","HQ","  1/26",0.5,26,0.33300000000000002,33,null,null,0,602,null,13,26,15652,300,null,{"$f":"+'Main Menu'!M$10","v":60000},{"$f":"+'Main Menu'!M$12","v":20000},null,{"$f":"IF('Main Menu'!$M$14<L56,'Main Menu'!$M$14,L56)","v":0},null,1538.4615384615386,0.5,602,15652,26,602,902,"2021-09-06",null,51,"WI","WISCONSIN",null,null,null,null,null,null,null,null,null,null,null,298.07692307692309,15500,15750,160,1.032258064516129E-2,0.53677419354838707,0.54,null,572.11538461538464,29750,30000,274,9.2100840336134457E-3,0.47892436974789915,0.48,null,null,null,null,null,null,null,null,null,null,null,null,null,null,null,7563,7587,298,0.51223059632420997]
["VT","Vermont","1/45 tot2HQW","MQ","  1/45",0.57999999999999996,26,0.46,72,null,null,0,513,null,21,26,13338,300,null,{"$f":"+'Main Menu'!M$10","v":60000},{"$f":"+'Main Menu'!M$12","v":20000},null,{"$f":"IF('Main Menu'!$M$14<L57,'Main Menu'!$M$14,L57)","v":0},null,{"$f":"+((U57+(T57*0.25))/26)","v":1346.1538461538462},0.57999999999999996,513,13338,26,513,813,"2021-09-06",null,52,"WV","WEST VIRGINIA",null,null,null,null,null,null,null,null,null,null,null,302.88461538461536,15750,16000,162,1.0285714285714285E-2,0.53485714285714292,0.54,null,576.92307692307691,30000,30250,276,9.1999999999999998E-3,0.47839999999999999,0.48,null,null,null,null,null,null,null,null,null,null,null,null,null,null,null,7588,7612,299,0.51225619399051125]
["WA","Washington",".0385 avg2HQW","MQ",3.85E-2,0.5,26,0.33300000000000002,188,null,null,0,790,null,1,26,20540,300,null,{"$f":"+'Main Menu'!M$10","v":60000},{"$f":"+'Main Menu'!M$12","v":20000},null,{"$f":"IF('Main Menu'!$M$14<L58,'Main Menu'!$M$14,L58)","v":0},null,{"$f":"+((U58+(T58*0.25))/26)","v":1346.1538461538462},0.5,673.07692307692309,17500,26,673.07692307692309,973.07692307692309,"2021-09-06",null,53,"WY","WYOMING",null,null,null,null,null,null,null,null,null,null,null,307.69230769230768,16000,16250,164,1.025E-2,0.53300000000000003,0.54,null,581.73076923076928,30250,30500,278,9.1900826446280996E-3,0.47788429752066114,0.48,null,null,null,null,null,null,null,null,null,null,null,null,null,null,null,7613,7637,300,0.51228162353868378]
["WI","Wisconsin",".04 HQW","HQ",0.04,0.52,26,0.4,54,null,null,0,370,null,14,26,9620,300,null,{"$f":"+'Main Menu'!M$10","v":60000},{"$f":"+'Main Menu'!M$12","v":20000},null,{"$f":"IF('Main Menu'!$M$14<L59,'Main Menu'!$M$14,L59)","v":0},null,1538.4615384615386,0.52,370,9620,26,370,670,"2021-09-06",null,null,null,null,null,null,null,null,null,null,null,null,null,null,null,312.5,16250,16500,166,1.0215384615384616E-2,0.53120000000000001,0.54,null,586.53846153846155,30500,30750,280,9.180327868852459E-3,0.47737704918032786,0.48,null,null,null,null,null,null,null,null,null,null,null,null,null,null,null,7638,7662,301,0.51230688661953394]
["WV","West Virginia",".55 of 1/52 wgs in class","AW","  1/52",0.55000000000000004,26,0.3,24,null,null,0,424,null,26,26,11024,300,null,{"$f":"+'Main Menu'!M$10","v":60000},{"$f":"+'Main Menu'!M$12","v":20000},null,{"$f":"IF('Main Menu'!$M$14<L60,'Main Menu'!$M$14,L60)","v":0},null,{"$f":"+T60/52","v":1153.8461538461538},0.55000000000000004,424,11024,{"$f":"+G60","v":26},424,724,"2021-06-19",null,null,null,null,null,null,null,null,null,null,null,null,null,null,null,317.30769230769232,16500,16750,168,1.0181818181818183E-2,0.5294545454545454,0.54,null,591.34615384615381,30750,31000,282,9.1707317073170726E-3,0.47687804878048784,0.47499999999999998,null,null,null,null,null,null,null,null,null,null,null,null,null,null,null,7663,7687,302,0.51233198486232545]
["WY","Wyoming",".04 HQW","HQ",0.04,0.52,26,0.3,36,null,null,0,508,null,11,26,13208,300,null,{"$f":"+'Main Menu'!M$10","v":60000},{"$f":"+'Main Menu'!M$12","v":20000},null,{"$f":"IF('Main Menu'!$M$14<L61,'Main Menu'!$M$14,L61)","v":0},null,1538.4615384615386,0.52,508,13208,{"$f":"IF((AB61/AA61)>P61,P61,IF((AB61/AA61)<O61,O61,(AB61/AA61)))","v":26},508,808,"2021-06-19",null,null,null,null,null,null,null,null,null,null,null,null,null,null,null,null,null,null,null,null,null,null,null,null,null,null,null,null,null,null,null,null,null,null,null,null,null,null,null,null,null,null,null,null,null,7688,7712,303,0.5123569198751301]
[null,null,null,null,null,null,null,null,null,null,null,null,null,null,null,null,null,null,null,null,null,null,null,null,null,null,null,null,null,null,null,null,null,null,null,null,null,null,null,null,null,null,null,null,null,null,null,null,null,null,null,null,null,null,null,null,null,null,null,null,null,null,null,null,null,null,null,null,null,null,null,null,null,null,null,null,null,7713,7737,304,0.51238169324517058]
[null,null,null,null,null,null,null,null,null,null,null,null,null,null,null,null,null,null,null,null,null,null,null,null,null,null,null,null,null,null,null,null,null,null,null,null,null,null,null,null,null,null,null,null,null,null,null,null,null,null,null,null,null,null,null,null,null,null,null,null,null,null,null,null,null,null,null,null,null,null,null,null,null,null,null,null,null,7738,7762,305,0.51240630653915731]
[null,null,null,null,null,null,null,null,null,null,null,null,null,null,null,null,null,null,null,null,null,null,null,null,null,null,null,null,null,null,null,null,null,null,null,null,null,null,null,null,null,null,null,null,null,null,null,null,null,null,null,null,null,null,null,null,null,null,null,null,null,null,null,null,null,null,null,null,null,null,null,null,null,null,null,null,null,7763,7787,306,0.51243076130361975]
[null,null,null,null,null,null,null,null,null,null,null,null,null,null,null,null,null,null,null,null,null,null,null,null,null,null,null,null,null,null,null,null,null,null,null,null,null,null,null,null,null,null,null,null,null,null,null,null,null,null,null,null,null,null,null,null,null,null,null,null,null,null,null,null,null,null,null,null,null,null,null,null,null,null,null,null,null,7788,7812,307,0.51245505906522859]
[null,null,null,null,null,null,null,null,null,null,null,null,null,null,null,null,null,null,null,null,null,null,null,null,null,null,null,null,null,null,null,null,null,null,null,null,null,null,null,null,null,null,null,null,null,null,null,null,null,null,null,null,null,null,null,null,null,null,null,null,null,null,null,null,null,null,null,null,null,null,null,null,null,null,null,null,null,7813,7837,308,0.5124792013311148]
[null,null,null,null,null,null,null,null,null,null,null,null,null,null,null,null,null,null,null,null,null,null,null,null,null,null,null,null,null,null,null,null,null,null,null,null,null,null,null,null,null,null,null,null,null,null,null,null,null,null,null,null,null,null,null,null,null,null,null,null,null,null,null,null,null,null,null,null,null,null,null,null,null,null,null,null,null,7838,7862,309,0.51250318958918095]
[null,null,null,null,null,null,null,null,null,null,null,null,null,null,null,null,null,null,null,null,null,null,null,null,null,null,null,null,null,null,null,null,null,null,null,null,null,null,null,null,null,null,null,null,null,null,null,null,null,null,null,null,null,null,null,null,null,null,null,null,null,null,null,null,null,null,null,null,null,null,null,null,null,null,null,null,null,7863,7887,310,{"$f":"+CB68/(BZ68/13)","v":0.51252702530840644}]
[null,null,null,null,null,null,null,null,null,null,null,null,null,null,null,null,null,null,null,null,null,null,null,null,null,null,null,null,null,null,null,null,null,null,null,null,null,null,null,null,null,null,null,null,null,null,null,null,null,null,null,null,null,null,null,null,null,null,null,null,null,null,null,null,null,null,null,null,null,null,null,null,null,null,null,null,null,7888,7912,311,0.51255070993914809]
[null,null,null,null,null,null,null,null,null,null,null,null,null,null,null,null,null,null,null,null,null,null,null,null,null,null,null,null,null,null,null,null,null,null,null,null,null,null,null,null,null,null,null,null,null,null,null,null,null,null,null,null,null,null,null,null,null,null,null,null,null,null,null,null,null,null,null,null,null,null,null,null,null,null,null,null,null,7913,7937,312,0.51257424491343351]
[null,null,null,null,null,null,null,null,null,null,null,null,null,null,null,null,null,null,null,null,null,null,null,null,null,null,null,null,null,null,null,null,null,null,null,null,null,null,null,null,null,null,null,null,null,null,null,null,null,null,null,null,null,null,null,null,null,null,null,null,null,null,null,null,null,null,null,null,null,null,null,null,null,null,null,null,null,7938,7962,313,0.51259763164525063]
[null,null,null,null,null,null,null,null,null,null,null,null,null,null,null,null,null,null,null,null,null,null,null,null,null,null,null,null,null,null,null,null,null,null,null,null,null,null,null,null,null,null,null,null,null,null,null,null,null,null,null,null,null,null,null,null,null,null,null,null,null,null,null,null,null,null,null,null,null,null,null,null,null,null,null,null,null,7963,7987,314,0.51262087153083014]
[null,null,null,null,null,null,null,null,null,null,null,null,null,null,null,null,null,null,null,null,null,null,null,null,null,null,null,null,null,null,null,null,null,null,null,null,null,null,null,null,null,null,null,null,null,null,null,null,null,null,null,null,null,null,null,null,null,null,null,null,null,null,null,null,null,null,null,null,null,null,null,null,null,null,null,null,null,7988,8012,315,0.51264396594892336]
[null,null,null,null,null,null,null,null,null,null,null,null,null,null,null,null,null,null,null,null,null,null,null,null,null,null,null,null,null,null,null,null,null,null,null,null,null,null,null,null,null,null,null,null,null,null,null,null,null,null,null,null,null,null,null,null,null,null,null,null,null,null,null,null,null,null,null,null,null,null,null,null,null,null,null,null,null,8013,8037,316,0.51266691626107574]
[null,null,null,null,null,null,null,null,null,null,null,null,null,null,null,null,null,null,null,null,null,null,null,null,null,null,null,null,null,null,null,null,null,null,null,null,null,null,null,null,null,null,null,null,null,null,null,null,null,null,null,null,null,null,null,null,null,null,null,null,null,null,null,null,null,null,null,null,null,null,null,null,null,null,null,null,null,8038,8062,317,0.51268972381189359]
[null,null,null,null,null,null,null,null,null,null,null,null,null,null,null,null,null,null,null,null,null,null,null,null,null,null,null,null,null,null,null,null,null,null,null,null,null,null,null,null,null,null,null,null,null,null,null,null,null,null,null,null,null,null,null,null,null,null,null,null,null,null,null,null,null,null,null,null,null,null,null,null,null,null,null,null,null,8063,8087,318,0.51271238992930668]
[null,null,null,null,null,null,null,null,null,null,null,null,null,null,null,null,null,null,null,null,null,null,null,null,null,null,null,null,null,null,null,null,null,null,null,null,null,null,null,null,null,null,null,null,null,null,null,null,null,null,null,null,null,null,null,null,null,null,null,null,null,null,null,null,null,null,null,null,null,null,null,null,null,null,null,null,null,8088,8112,319,0.5127349159248269]
[null,null,null,null,null,null,null,null,null,null,null,null,null,null,null,null,null,null,null,null,null,null,null,null,null,null,null,null,null,null,null,null,null,null,null,null,null,null,null,null,null,null,null,null,null,null,null,null,null,null,null,null,null,null,null,null,null,null,null,null,null,null,null,null,null,null,null,null,null,null,null,null,null,null,null,null,null,8113,8137,320,0.51275730309380008]
[]
[]
[]
[]
[]
[]
[]
[]
[]
[]
[]
[]
[]
[]
[]
[]
[]
[]
[]
[]
[]
[]
[]
[]
[]
[]
[]
[]
[]
[]
[]
[]
[]
[]
[]
[]
[]
[]
[]
[]
[]
[]
[]
[]
[]
[]
[]
[]
[]
[]
[]
[]
[]
[]
[]
[]
[]
[]
[]
[]
[]
[]
[]
[]
[]
[]
[]
[]
[]
[]
[]
[]
[]
[]
[]
[]
[]
[]
[]
[]
[]
[]
[]
[]
[]
[]
[]
[]
[]
[]
[]
[]
[]
[]
[]
[]
[]
[]
[]
[]
[]
[]
[]
[]
[]
[]
[]
[]
[]
[]
[]
[]
[]
[]
[]
[]
[]
[]
[]
[]
[]
[]
[]
[]
[]
[]
[]
[]
[]
[]
[]
[]
[]
[]
[]
[]
[]
[]
[]
[]
[]
[]
[]
[]
[]
[]
[]
[]
[]
[]
[]
[]
[]
[]
[]
[]
[]
[]
[]
[]
[]
[]
[]
[]
[]
[]
[]
[]
[]
[]
[]
[]
[]
[]
[]
[]
[]
[]
[]
[]
[]
[]
[]
[]
[]
[]
[]
[]
[]
[]
[]
[]
[]
[]
[]
[]
[]
[]
[]
[]
[]
[]
[]
[]
[]
[]
[]
[]
[]
[]
[]
[]
[]
[]
[]
[]
[]
[]
[]
[]
[]
[]
[]
[]
[]
[]
[]
[]
[]
[]
[]
[]
[]
[]
[]
[]
[]
[]
[]
[]
[]
[]
[]
[]
[]
[]
[]
[]
[]
[]
[]
[]
[]
[]
[]
[]
[]
[]
[]
[]
[]
[]
[]
[]
[]
[]
[null,null,null,null,null,null,null,null,null,null,null,null,null,null,null,null,null,null,null,null,null,null,null,null,null,null,null,null,null,null,null,null,null,null,null,null,null,null,null,null,null,null,null,null,null,null,null,null,31000]
[null,null,null,null,null,null,null,null,null,null,null,null,null,null,null,null,null,null,null,null,null,null,null,null,null,null,null,null,null,null,null,null,null,null,null,null,null,null,null,null,null,null,null,null,null,null,null,null,31250]
[null,null,null,null,null,null,null,null,null,null,null,null,null,null,null,null,null,null,null,null,null,null,null,null,null,null,null,null,null,null,null,null,null,null,null,null,null,null,null,null,null,null,null,null,null,null,null,null,31500]
[null,null,null,null,null,null,null,null,null,null,null,null,null,null,null,null,null,null,null,null,null,null,null,null,null,null,null,null,null,null,null,null,null,null,null,null,null,null,null,null,null,null,null,null,null,null,null,null,31750]
[null,null,null,null,null,null,null,null,null,null,null,null,null,null,null,null,null,null,null,null,null,null,null,null,null,null,null,null,null,null,null,null,null,null,null,null,null,null,null,null,null,null,null,null,null,null,null,null,32000]
[null,null,null,null,null,null,null,null,null,null,null,null,null,null,null,null,null,null,null,null,null,null,null,null,null,null,null,null,null,null,null,null,null,null,null,null,null,null,null,null,null,null,null,null,null,null,null,null,32250]
[null,null,null,null,null,null,null,null,null,null,null,null,null,null,null,null,null,null,null,null,null,null,null,null,null,null,null,null,null,null,null,null,null,null,null,null,null,null,null,null,null,null,null,null,null,null,null,null,32500]
[null,null,null,null,null,null,null,null,null,null,null,null,null,null,null,null,null,null,null,null,null,null,null,null,null,null,null,null,null,null,null,null,null,null,null,null,null,null,null,null,null,null,null,null,null,null,null,null,32750]
[null,null,null,null,null,null,null,null,null,null,null,null,null,null,null,null,null,null,null,null,null,null,null,null,null,null,null,null,null,null,null,null,null,null,null,null,null,null,null,null,null,null,null,null,null,null,null,null,33000]
[null,null,null,null,null,null,null,null,null,null,null,null,null,null,null,null,null,null,null,null,null,null,null,null,null,null,null,null,null,null,null,null,null,null,null,null,null,null,null,null,null,null,null,null,null,null,null,null,33250]
[null,null,null,null,null,null,null,null,null,null,null,null,null,null,null,null,null,null,null,null,null,null,null,null,null,null,null,null,null,null,null,null,null,null,null,null,null,null,null,null,null,null,null,null,null,null,null,null,33500]
[null,null,null,null,null,null,null,null,null,null,null,null,null,null,null,null,null,null,null,null,null,null,null,null,null,null,null,null,null,null,null,null,null,null,null,null,null,null,null,null,null,null,null,null,null,null,null,null,33750]
[null,null,null,null,null,null,null,null,null,null,null,null,null,null,null,null,null,null,null,null,null,null,null,null,null,null,null,null,null,null,null,null,null,null,null,null,null,null,null,null,null,null,null,null,null,null,null,null,34000]
[null,null,null,null,null,null,null,null,null,null,null,null,null,null,null,null,null,null,null,null,null,null,null,null,null,null,null,null,null,null,null,null,null,null,null,null,null,null,null,null,null,null,null,null,null,null,null,null,34250]
[null,null,null,null,null,null,null,null,null,null,null,null,null,null,null,null,null,null,null,null,null,null,null,null,null,null,null,null,null,null,null,null,null,null,null,null,null,null,null,null,null,null,null,null,null,null,null,null,34500]
[null,null,null,null,null,null,null,null,null,null,null,null,null,null,null,null,null,null,null,null,null,null,null,null,null,null,null,null,null,null,null,null,null,null,null,null,null,null,null,null,null,null,null,null,null,null,null,null,34750]
[null,null,null,null,null,null,null,null,null,null,null,null,null,null,null,null,null,null,null,null,null,null,null,null,null,null,null,null,null,null,null,null,null,null,null,null,null,null,null,null,null,null,null,null,null,null,null,null,35000]
[null,null,null,null,null,null,null,null,null,null,null,null,null,null,null,null,null,null,null,null,null,null,null,null,null,null,null,null,null,null,null,null,null,null,null,null,null,null,null,null,null,null,null,null,null,null,null,null,35250]
[null,null,null,null,null,null,null,null,null,null,null,null,null,null,null,null,null,null,null,null,null,null,null,null,null,null,null,null,null,null,null,null,null,null,null,null,null,null,null,null,null,null,null,null,null,null,null,null,35500]
[null,null,null,null,null,null,null,null,null,null,null,null,null,null,null,null,null,null,null,null,null,null,null,null,null,null,null,null,null,null,null,null,null,null,null,null,null,null,null,null,null,null,null,null,null,null,null,null,35750]
[null,null,null,null,null,null,null,null,null,null,null,null,null,null,null,null,null,null,null,null,null,null,null,null,null,null,null,null,null,null,null,null,null,null,null,null,null,null,null,null,null,null,null,null,null,null,null,null,36000]
[null,null,null,null,null,null,null,null,null,null,null,null,null,null,null,null,null,null,null,null,null,null,null,null,null,null,null,null,null,null,null,null,null,null,null,null,null,null,null,null,null,null,null,null,null,null,null,null,36250]
[null,null,null,null,null,null,null,null,null,null,null,null,null,null,null,null,null,null,null,null,null,null,null,null,null,null,null,null,null,null,null,null,null,null,null,null,null,null,null,null,null,null,null,null,null,null,null,null,36500]
[null,null,null,null,null,null,null,null,null,null,null,null,null,null,null,null,null,null,null,null,null,null,null,null,null,null,null,null,null,null,null,null,null,null,null,null,null,null,null,null,null,null,null,null,null,null,null,null,36750]
[null,null,null,null,null,null,null,null,null,null,null,null,null,null,null,null,null,null,null,null,null,null,null,null,null,null,null,null,null,null,null,null,null,null,null,null,null,null,null,null,null,null,null,null,null,null,null,null,37000]
[null,null,null,null,null,null,null,null,null,null,null,null,null,null,null,null,null,null,null,null,null,null,null,null,null,null,null,null,null,null,null,null,null,null,null,null,null,null,null,null,null,null,null,null,null,null,null,null,37250]
[null,null,null,null,null,null,null,null,null,null,null,null,null,null,null,null,null,null,null,null,null,null,null,null,null,null,null,null,null,null,null,null,null,null,null,null,null,null,null,null,null,null,null,null,null,null,null,null,37500]
[null,null,null,null,null,null,null,null,null,null,null,null,null,null,null,null,null,null,null,null,null,null,null,null,null,null,null,null,null,null,null,null,null,null,null,null,null,null,null,null,null,null,null,null,null,null,null,null,37750]
[null,null,null,null,null,null,null,null,null,null,null,null,null,null,null,null,null,null,null,null,null,null,null,null,null,null,null,null,null,null,null,null,null,null,null,null,null,null,null,null,null,null,null,null,null,null,null,null,38000]
[null,null,null,null,null,null,null,null,null,null,null,null,null,null,null,null,null,null,null,null,null,null,null,null,null,null,null,null,null,null,null,null,null,null,null,null,null,null,null,null,null,null,null,null,null,null,null,null,38250]
[null,null,null,null,null,null,null,null,null,null,null,null,null,null,null,null,null,null,null,null,null,null,null,null,null,null,null,null,null,null,null,null,null,null,null,null,null,null,null,null,null,null,null,null,null,null,null,null,38500]
[null,null,null,null,null,null,null,null,null,null,null,null,null,null,null,null,null,null,null,null,null,null,null,null,null,null,null,null,null,null,null,null,null,null,null,null,null,null,null,null,null,null,null,null,null,null,null,null,38750]
[null,null,null,null,null,null,null,null,null,null,null,null,null,null,null,null,null,null,null,null,null,null,null,null,null,null,null,null,null,null,null,null,null,null,null,null,null,null,null,null,null,null,null,null,null,null,null,null,39000]
[null,null,null,null,null,null,null,null,null,null,null,null,null,null,null,null,null,null,null,null,null,null,null,null,null,null,null,null,null,null,null,null,null,null,null,null,null,null,null,null,null,null,null,null,null,null,null,null,39250]
[null,null,null,null,null,null,null,null,null,null,null,null,null,null,null,null,null,null,null,null,null,null,null,null,null,null,null,null,null,null,null,null,null,null,null,null,null,null,null,null,null,null,null,null,null,null,null,null,39500]
[null,null,null,null,null,null,null,null,null,null,null,null,null,null,null,null,null,null,null,null,null,null,null,null,null,null,null,null,null,null,null,null,null,null,null,null,null,null,null,null,null,null,null,null,null,null,null,null,39750]
[null,null,null,null,null,null,null,null,null,null,null,null,null,null,null,null,null,null,null,null,null,null,null,null,null,null,null,null,null,null,null,null,null,null,null,null,null,null,null,null,null,null,null,null,null,null,null,null,40000]
[null,null,null,null,null,null,null,null,null,null,null,null,null,null,null,null,null,null,null,null,null,null,null,null,null,null,null,null,null,null,null,null,null,null,null,null,null,null,null,null,null,null,null,null,null,null,null,null,40250]
[null,null,null,null,null,null,null,null,null,null,null,null,null,null,null,null,null,null,null,null,null,null,null,null,null,null,null,null,null,null,null,null,null,null,null,null,null,null,null,null,null,null,null,null,null,null,null,null,40500]
[null,null,null,null,null,null,null,null,null,null,null,null,null,null,null,null,null,null,null,null,null,null,null,null,null,null,null,null,null,null,null,null,null,null,null,null,null,null,null,null,null,null,null,null,null,null,null,null,40750]
[null,null,null,null,null,null,null,null,null,null,null,null,null,null,null,null,null,null,null,null,null,null,null,null,null,null,null,null,null,null,null,null,null,null,null,null,null,null,null,null,null,null,null,null,null,null,null,null,41000]
[null,null,null,null,null,null,null,null,null,null,null,null,null,null,null,null,null,null,null,null,null,null,null,null,null,null,null,null,null,null,null,null,null,null,null,null,null,null,null,null,null,null,null,null,null,null,null,null,41250]
[null,null,null,null,null,null,null,null,null,null,null,null,null,null,null,null,null,null,null,null,null,null,null,null,null,null,null,null,null,null,null,null,null,null,null,null,null,null,null,null,null,null,null,null,null,null,null,null,41500]
[null,null,null,null,null,null,null,null,null,null,null,null,null,null,null,null,null,null,null,null,null,null,null,null,null,null,null,null,null,null,null,null,null,null,null,null,null,null,null,null,null,null,null,null,null,null,null,null,41750]
[null,null,null,null,null,null,null,null,null,null,null,null,null,null,null,null,null,null,null,null,null,null,null,null,null,null,null,null,null,null,null,null,null,null,null,null,null,null,null,null,null,null,null,null,null,null,null,null,42000]
[null,null,null,null,null,null,null,null,null,null,null,null,null,null,null,null,null,null,null,null,null,null,null,null,null,null,null,null,null,null,null,null,null,null,null,null,null,null,null,null,null,null,null,null,null,null,null,null,31250]
[null,null,null,null,null,null,null,null,null,null,null,null,null,null,null,null,null,null,null,null,null,null,null,null,null,null,null,null,null,null,null,null,null,null,null,null,null,null,null,null,null,null,null,null,null,null,null,null,31500]
[null,null,null,null,null,null,null,null,null,null,null,null,null,null,null,null,null,null,null,null,null,null,null,null,null,null,null,null,null,null,null,null,null,null,null,null,null,null,null,null,null,null,null,null,null,null,null,null,31750]
[null,null,null,null,null,null,null,null,null,null,null,null,null,null,null,null,null,null,null,null,null,null,null,null,null,null,null,null,null,null,null,null,null,null,null,null,null,null,null,null,null,null,null,null,null,null,null,null,32000]
[null,null,null,null,null,null,null,null,null,null,null,null,null,null,null,null,null,null,null,null,null,null,null,null,null,null,null,null,null,null,null,null,null,null,null,null,null,null,null,null,null,null,null,null,null,null,null,null,32250]
[null,null,null,null,null,null,null,null,null,null,null,null,null,null,null,null,null,null,null,null,null,null,null,null,null,null,null,null,null,null,null,null,null,null,null,null,null,null,null,null,null,null,null,null,null,null,null,null,32500]
[null,null,null,null,null,null,null,null,null,null,null,null,null,null,null,null,null,null,null,null,null,null,null,null,null,null,null,null,null,null,null,null,null,null,null,null,null,null,null,null,null,null,null,null,null,null,null,null,32750]
[null,null,null,null,null,null,null,null,null,null,null,null,null,null,null,null,null,null,null,null,null,null,null,null,null,null,null,null,null,null,null,null,null,null,null,null,null,null,null,null,null,null,null,null,null,null,null,null,33000]
[null,null,null,null,null,null,null,null,null,null,null,null,null,null,null,null,null,null,null,null,null,null,null,null,null,null,null,null,null,null,null,null,null,null,null,null,null,null,null,null,null,null,null,null,null,null,null,null,33250]
[null,null,null,null,null,null,null,null,null,null,null,null,null,null,null,null,null,null,null,null,null,null,null,null,null,null,null,null,null,null,null,null,null,null,null,null,null,null,null,null,null,null,null,null,null,null,null,null,33500]
[null,null,null,null,null,null,null,null,null,null,null,null,null,null,null,null,null,null,null,null,null,null,null,null,null,null,null,null,null,null,null,null,null,null,null,null,null,null,null,null,null,null,null,null,null,null,null,null,33750]
[null,null,null,null,null,null,null,null,null,null,null,null,null,null,null,null,null,null,null,null,null,null,null,null,null,null,null,null,null,null,null,null,null,null,null,null,null,null,null,null,null,null,null,null,null,null,null,null,34000]
[null,null,null,null,null,null,null,null,null,null,null,null,null,null,null,null,null,null,null,null,null,null,null,null,null,null,null,null,null,null,null,null,null,null,null,null,null,null,null,null,null,null,null,null,null,null,null,null,34250]
[null,null,null,null,null,null,null,null,null,null,null,null,null,null,null,null,null,null,null,null,null,null,null,null,null,null,null,null,null,null,null,null,null,null,null,null,null,null,null,null,null,null,null,null,null,null,null,null,34500]
[null,null,null,null,null,null,null,null,null,null,null,null,null,null,null,null,null,null,null,null,null,null,null,null,null,null,null,null,null,null,null,null,null,null,null,null,null,null,null,null,null,null,null,null,null,null,null,null,34750]
[null,null,null,null,null,null,null,null,null,null,null,null,null,null,null,null,null,null,null,null,null,null,null,null,null,null,null,null,null,null,null,null,null,null,null,null,null,null,null,null,null,null,null,null,null,null,null,null,35000]
[null,null,null,null,null,null,null,null,null,null,null,null,null,null,null,null,null,null,null,null,null,null,null,null,null,null,null,null,null,null,null,null,null,null,null,null,null,null,null,null,null,null,null,null,null,null,null,null,35250]
[null,null,null,null,null,null,null,null,null,null,null,null,null,null,null,null,null,null,null,null,null,null,null,null,null,null,null,null,null,null,null,null,null,null,null,null,null,null,null,null,null,null,null,null,null,null,null,null,35500]
[null,null,null,null,null,null,null,null,null,null,null,null,null,null,null,null,null,null,null,null,null,null,null,null,null,null,null,null,null,null,null,null,null,null,null,null,null,null,null,null,null,null,null,null,null,null,null,null,35750]
[null,null,null,null,null,null,null,null,null,null,null,null,null,null,null,null,null,null,null,null,null,null,null,null,null,null,null,null,null,null,null,null,null,null,null,null,null,null,null,null,null,null,null,null,null,null,null,null,36000]
[null,null,null,null,null,null,null,null,null,null,null,null,null,null,null,null,null,null,null,null,null,null,null,null,null,null,null,null,null,null,null,null,null,null,null,null,null,null,null,null,null,null,null,null,null,null,null,null,36250]
[null,null,null,null,null,null,null,null,null,null,null,null,null,null,null,null,null,null,null,null,null,null,null,null,null,null,null,null,null,null,null,null,null,null,null,null,null,null,null,null,null,null,null,null,null,null,null,null,36500]
[null,null,null,null,null,null,null,null,null,null,null,null,null,null,null,null,null,null,null,null,null,null,null,null,null,null,null,null,null,null,null,null,null,null,null,null,null,null,null,null,null,null,null,null,null,null,null,null,36750]
[null,null,null,null,null,null,null,null,null,null,null,null,null,null,null,null,null,null,null,null,null,null,null,null,null,null,null,null,null,null,null,null,null,null,null,null,null,null,null,null,null,null,null,null,null,null,null,null,37000]
[null,null,null,null,null,null,null,null,null,null,null,null,null,null,null,null,null,null,null,null,null,null,null,null,null,null,null,null,null,null,null,null,null,null,null,null,null,null,null,null,null,null,null,null,null,null,null,null,37250]
[null,null,null,null,null,null,null,null,null,null,null,null,null,null,null,null,null,null,null,null,null,null,null,null,null,null,null,null,null,null,null,null,null,null,null,null,null,null,null,null,null,null,null,null,null,null,null,null,37500]
[null,null,null,null,null,null,null,null,null,null,null,null,null,null,null,null,null,null,null,null,null,null,null,null,null,null,null,null,null,null,null,null,null,null,null,null,null,null,null,null,null,null,null,null,null,null,null,null,37750]
[null,null,null,null,null,null,null,null,null,null,null,null,null,null,null,null,null,null,null,null,null,null,null,null,null,null,null,null,null,null,null,null,null,null,null,null,null,null,null,null,null,null,null,null,null,null,null,null,38000]
[null,null,null,null,null,null,null,null,null,null,null,null,null,null,null,null,null,null,null,null,null,null,null,null,null,null,null,null,null,null,null,null,null,null,null,null,null,null,null,null,null,null,null,null,null,null,null,null,38250]
[null,null,null,null,null,null,null,null,null,null,null,null,null,null,null,null,null,null,null,null,null,null,null,null,null,null,null,null,null,null,null,null,null,null,null,null,null,null,null,null,null,null,null,null,null,null,null,null,38500]
[null,null,null,null,null,null,null,null,null,null,null,null,null,null,null,null,null,null,null,null,null,null,null,null,null,null,null,null,null,null,null,null,null,null,null,null,null,null,null,null,null,null,null,null,null,null,null,null,38750]
[null,null,null,null,null,null,null,null,null,null,null,null,null,null,null,null,null,null,null,null,null,null,null,null,null,null,null,null,null,null,null,null,null,null,null,null,null,null,null,null,null,null,null,null,null,null,null,null,39000]
[null,null,null,null,null,null,null,null,null,null,null,null,null,null,null,null,null,null,null,null,null,null,null,null,null,null,null,null,null,null,null,null,null,null,null,null,null,null,null,null,null,null,null,null,null,null,null,null,39250]
[null,null,null,null,null,null,null,null,null,null,null,null,null,null,null,null,null,null,null,null,null,null,null,null,null,null,null,null,null,null,null,null,null,null,null,null,null,null,null,null,null,null,null,null,null,null,null,null,39500]
[null,null,null,null,null,null,null,null,null,null,null,null,null,null,null,null,null,null,null,null,null,null,null,null,null,null,null,null,null,null,null,null,null,null,null,null,null,null,null,null,null,null,null,null,null,null,null,null,39750]
[null,null,null,null,null,null,null,null,null,null,null,null,null,null,null,null,null,null,null,null,null,null,null,null,null,null,null,null,null,null,null,null,null,null,null,null,null,null,null,null,null,null,null,null,null,null,null,null,40000]
[null,null,null,null,null,null,null,null,null,null,null,null,null,null,null,null,null,null,null,null,null,null,null,null,null,null,null,null,null,null,null,null,null,null,null,null,null,null,null,null,null,null,null,null,null,null,null,null,40250]
[null,null,null,null,null,null,null,null,null,null,null,null,null,null,null,null,null,null,null,null,null,null,null,null,null,null,null,null,null,null,null,null,null,null,null,null,null,null,null,null,null,null,null,null,null,null,null,null,40500]
[null,null,null,null,null,null,null,null,null,null,null,null,null,null,null,null,null,null,null,null,null,null,null,null,null,null,null,null,null,null,null,null,null,null,null,null,null,null,null,null,null,null,null,null,null,null,null,null,40750]
[null,null,null,null,null,null,null,null,null,null,null,null,null,null,null,null,null,null,null,null,null,null,null,null,null,null,null,null,null,null,null,null,null,null,null,null,null,null,null,null,null,null,null,null,null,null,null,null,41000]
[null,null,null,null,null,null,null,null,null,null,null,null,null,null,null,null,null,null,null,null,null,null,null,null,null,null,null,null,null,null,null,null,null,null,null,null,null,null,null,null,null,null,null,null,null,null,null,null,41250]
[null,null,null,null,null,null,null,null,null,null,null,null,null,null,null,null,null,null,null,null,null,null,null,null,null,null,null,null,null,null,null,null,null,null,null,null,null,null,null,null,null,null,null,null,null,null,null,null,41500]
[null,null,null,null,null,null,null,null,null,null,null,null,null,null,null,null,null,null,null,null,null,null,null,null,null,null,null,null,null,null,null,null,null,null,null,null,null,null,null,null,null,null,null,null,null,null,null,null,41750]
[null,null,null,null,null,null,null,null,null,null,null,null,null,null,null,null,null,null,null,null,null,null,null,null,null,null,null,null,null,null,null,null,null,null,null,null,null,null,null,null,null,null,null,null,null,null,null,null,42000]